Workbook

Sheet Einzelabruf
A1: Grunddaten | Y1: Grundleistungen (1) | AA1: Besondere Leistungen (2.1) | AG1: Besondere Leistungen (2.2) | AM1: Besondere Leistungen (2.3) | AS1: Besondere Leistungen (2.4) | AY1: Besondere Leistungen (2.5) | BE1: Ges.-Kosten (1 )+ (2) = (3) | BF1: Kosten für weitere Leistungen (4) - durch AN einzutragen, Vergütung gegen Nachweis | BN1: Kosten Ges. (3) + (4) = (5)
A2: Lfd. Nr. BW | B2: BW- Art [B/S/L/ V/U/T] | C2: Prüfart [H1/ H2/H Ek/Eg/ S] | D2: Bauwerksname | E2: ASB-Nr. [xxxxyyy z] | F2: Name, Ort oder Lage | G2: Landkreis | H2: Bau-jahr | I2: Länge [m] | J2: Fläche [m²] | K2: Felder Anzahl | L2: Straße | M2: auf dem Bauwerk [oben (entlang) liegend] | N2: unter dem Bauwerk [unten (entlang) liegend] | O2: Höhe über Gelände [m] | P2: Baustoff | Q2: Zustandsnote | R2: Zugangstechnik* Gerät letzte HP/ | Alternatives Gerät Vorschlag AG | sofern sinnvoll | T2: Verkehrs-sicherung ja / nein ggf. RSA-Regelplan | U2: VAO | V2: SAO | W2: Betra | X2: Besonderheit | Y2: Aufwand [h] | Z2: Kosten [Euro] | AA2: Beschreibung | AB2: Aufwand Ing [h] | AC2: Kosten Ing [Euro] | AD2: Aufwand Techniker [h] | AE2: Kosten Techniker [Euro] | AF2: Kosten Ges. [Euro] | AG2: Beschreibung | AH2: Aufwand Ing [h] | AI2: Kosten Ing [Euro] | AJ2: Aufwand Techniker [h] | AK2: Kosten Techniker [Euro] | AL2: Kosten Ges. [Euro] | AM2: Beschreibung | AN2: Aufwand Ing [h] | AO2: Kosten Ing [Euro] | AP2: Aufwand Techniker [h] | AQ2: Kosten Techniker [Euro] | AR2: Kosten Ges. [Euro] | AS2: Beschreibung | AT2: Aufwand Ing [h] | AU2: Kosten Ing [Euro] | AV2: Aufwand Techniker [h] | AW2: Kosten Techniker [Euro] | AX2: Kosten Ges. [Euro] | AY2: Beschreibung | AZ2: Aufwand Ing [h] | BA2: Kosten Ing [Euro] | BB2: Aufwand Techniker [h] | BC2: Kosten Techniker [Euro] | BD2: Kosten Ges. [Euro] | BE2: Grundleistung u. besondere Leistungen [Euro] | BF2: Zugangstechnik* Gerät | Abweichung Vorschlag AG mit Begründung | Kosten | BI2: Kosten Verkehrs-sicherung [Euro] | BJ2: Kosten VAO [Euro] | BK2: Kosten SAO [Euro] | BL2: Kosten Betra [Euro] | BM2: Summe Kosten "Weitere Leistungen" [Euro] | BN2: Summe Grundleistungen, besondere Leistungen und weitere Leistungen [Euro]
A3: Bsp. | B3: B | C3: H | D3: UF Schöner Bach | E3: 3347550 0 | F3: Lindenberg | G3: Brücke | H3: 2012 | J3: 2243 | K3: 4 | L3: A 10 | M3: O: B 27 | N3: *U: L 3433 | O3: 4.84 | P3: Stahlbeton | Q3: 2.3 | U3: x | X3: Überflieger
A4: 1. | Z4: =Y4*Stundensätze!$B$3 -> 0 | AC4: =AA4*Stundensätze!$B$1 -> 0 | AE4: =AD4*Stundensätze!$B$2 -> 0 | AF4: =AC4+AE4 -> 0 | AI4: =AG4*Stundensätze!$B$1 -> 0 | AK4: =AJ4*Stundensätze!$B$2 -> 0 | AL4: =AI4+AK4 -> 0 | AO4: =AM4*Stundensätze!$B$1 -> 0 | AQ4: =AP4*Stundensätze!$B$2 -> 0 | AR4: =AO4+AQ4 -> 0 | AU4: =AS4*Stundensätze!$B$1 -> 0 | AW4: =AV4*Stundensätze!$B$2 -> 0 | AX4: =AU4+AW4 -> 0 | BA4: =AY4*Stundensätze!$B$1 -> 0 | BC4: =BB4*Stundensätze!$B$2 -> 0 | BD4: =BA4+BC4 -> 0 | BE4: =BD4+AX4+AR4+AL4+AF4+Z4 -> 0 | BM4: =SUM(BH4:BL4) -> 0 | BN4: =BM4+BE4 -> 0
A5: 2. | Z5: =Y5*Stundensätze!$B$3 -> 0 | AC5: =AA5*Stundensätze!$B$1 -> 0 | AE5: =AD5*Stundensätze!$B$2 -> 0 | AF5: =AC5+AE5 -> 0 | AI5: =AG5*Stundensätze!$B$1 -> 0 | AK5: =AJ5*Stundensätze!$B$2 -> 0 | AL5: =AI5+AK5 -> 0 | AO5: =AM5*Stundensätze!$B$1 -> 0 | AQ5: =AP5*Stundensätze!$B$2 -> 0 | AR5: =AO5+AQ5 -> 0 | AU5: =AS5*Stundensätze!$B$1 -> 0 | AW5: =AV5*Stundensätze!$B$2 -> 0 | AX5: =AU5+AW5 -> 0 | BA5: =AY5*Stundensätze!$B$1 -> 0 | BC5: =BB5*Stundensätze!$B$2 -> 0 | BD5: =BA5+BC5 -> 0 | BE5: =BD5+AX5+AR5+AL5+AF5+Z5 -> 0 | BM5: =SUM(BH5:BL5) -> 0 | BN5: =BM5+BE5 -> 0
A6: 3. | Z6: =Y6*Stundensätze!$B$3 -> 0 | AC6: =AA6*Stundensätze!$B$1 -> 0 | AE6: =AD6*Stundensätze!$B$2 -> 0 | AF6: =AC6+AE6 -> 0 | AI6: =AG6*Stundensätze!$B$1 -> 0 | AK6: =AJ6*Stundensätze!$B$2 -> 0 | AL6: =AI6+AK6 -> 0 | AO6: =AM6*Stundensätze!$B$1 -> 0 | AQ6: =AP6*Stundensätze!$B$2 -> 0 | AR6: =AO6+AQ6 -> 0 | AU6: =AS6*Stundensätze!$B$1 -> 0 | AW6: =AV6*Stundensätze!$B$2 -> 0 | AX6: =AU6+AW6 -> 0 | BA6: =AY6*Stundensätze!$B$1 -> 0 | BC6: =BB6*Stundensätze!$B$2 -> 0 | BD6: =BA6+BC6 -> 0 | BE6: =BD6+AX6+AR6+AL6+AF6+Z6 -> 0 | BM6: =SUM(BH6:BL6) -> 0 | BN6: =BM6+BE6 -> 0
A7: 4. | Z7: =Y7*Stundensätze!$B$3 -> 0 | AC7: =AA7*Stundensätze!$B$1 -> 0 | AE7: =AD7*Stundensätze!$B$2 -> 0 | AF7: =AC7+AE7 -> 0 | AI7: =AG7*Stundensätze!$B$1 -> 0 | AK7: =AJ7*Stundensätze!$B$2 -> 0 | AL7: =AI7+AK7 -> 0 | AO7: =AM7*Stundensätze!$B$1 -> 0 | AQ7: =AP7*Stundensätze!$B$2 -> 0 | AR7: =AO7+AQ7 -> 0 | AU7: =AS7*Stundensätze!$B$1 -> 0 | AW7: =AV7*Stundensätze!$B$2 -> 0 | AX7: =AU7+AW7 -> 0 | BA7: =AY7*Stundensätze!$B$1 -> 0 | BC7: =BB7*Stundensätze!$B$2 -> 0 | BD7: =BA7+BC7 -> 0 | BE7: =BD7+AX7+AR7+AL7+AF7+Z7 -> 0 | BM7: =SUM(BH7:BL7) -> 0 | BN7: =BM7+BE7 -> 0
A8: 5. | Z8: =Y8*Stundensätze!$B$3 -> 0 | AC8: =AA8*Stundensätze!$B$1 -> 0 | AE8: =AD8*Stundensätze!$B$2 -> 0 | AF8: =AC8+AE8 -> 0 | AI8: =AG8*Stundensätze!$B$1 -> 0 | AK8: =AJ8*Stundensätze!$B$2 -> 0 | AL8: =AI8+AK8 -> 0 | AO8: =AM8*Stundensätze!$B$1 -> 0 | AQ8: =AP8*Stundensätze!$B$2 -> 0 | AR8: =AO8+AQ8 -> 0 | AU8: =AS8*Stundensätze!$B$1 -> 0 | AW8: =AV8*Stundensätze!$B$2 -> 0 | AX8: =AU8+AW8 -> 0 | BA8: =AY8*Stundensätze!$B$1 -> 0 | BC8: =BB8*Stundensätze!$B$2 -> 0 | BD8: =BA8+BC8 -> 0 | BE8: =BD8+AX8+AR8+AL8+AF8+Z8 -> 0 | BM8: =SUM(BH8:BL8) -> 0 | BN8: =BM8+BE8 -> 0
A9: 6. | Z9: =Y9*Stundensätze!$B$3 -> 0 | AC9: =AA9*Stundensätze!$B$1 -> 0 | AE9: =AD9*Stundensätze!$B$2 -> 0 | AF9: =AC9+AE9 -> 0 | AI9: =AG9*Stundensätze!$B$1 -> 0 | AK9: =AJ9*Stundensätze!$B$2 -> 0 | AL9: =AI9+AK9 -> 0 | AO9: =AM9*Stundensätze!$B$1 -> 0 | AQ9: =AP9*Stundensätze!$B$2 -> 0 | AR9: =AO9+AQ9 -> 0 | AU9: =AS9*Stundensätze!$B$1 -> 0 | AW9: =AV9*Stundensätze!$B$2 -> 0 | AX9: =AU9+AW9 -> 0 | BA9: =AY9*Stundensätze!$B$1 -> 0 | BC9: =BB9*Stundensätze!$B$2 -> 0 | BD9: =BA9+BC9 -> 0 | BE9: =BD9+AX9+AR9+AL9+AF9+Z9 -> 0 | BM9: =SUM(BH9:BL9) -> 0 | BN9: =BM9+BE9 -> 0
A10: 7. | Z10: =Y10*Stundensätze!$B$3 -> 0 | AC10: =AA10*Stundensätze!$B$1 -> 0 | AE10: =AD10*Stundensätze!$B$2 -> 0 | AF10: =AC10+AE10 -> 0 | AI10: =AG10*Stundensätze!$B$1 -> 0 | AK10: =AJ10*Stundensätze!$B$2 -> 0 | AL10: =AI10+AK10 -> 0 | AO10: =AM10*Stundensätze!$B$1 -> 0 | AQ10: =AP10*Stundensätze!$B$2 -> 0 | AR10: =AO10+AQ10 -> 0 | AU10: =AS10*Stundensätze!$B$1 -> 0 | AW10: =AV10*Stundensätze!$B$2 -> 0 | AX10: =AU10+AW10 -> 0 | BA10: =AY10*Stundensätze!$B$1 -> 0 | BC10: =BB10*Stundensätze!$B$2 -> 0 | BD10: =BA10+BC10 -> 0 | BE10: =BD10+AX10+AR10+AL10+AF10+Z10 -> 0 | BM10: =SUM(BH10:BL10) -> 0 | BN10: =BM10+BE10 -> 0
A11: 8. | Z11: =Y11*Stundensätze!$B$3 -> 0 | AC11: =AA11*Stundensätze!$B$1 -> 0 | AE11: =AD11*Stundensätze!$B$2 -> 0 | AF11: =AC11+AE11 -> 0 | AI11: =AG11*Stundensätze!$B$1 -> 0 | AK11: =AJ11*Stundensätze!$B$2 -> 0 | AL11: =AI11+AK11 -> 0 | AO11: =AM11*Stundensätze!$B$1 -> 0 | AQ11: =AP11*Stundensätze!$B$2 -> 0 | AR11: =AO11+AQ11 -> 0 | AU11: =AS11*Stundensätze!$B$1 -> 0 | AW11: =AV11*Stundensätze!$B$2 -> 0 | AX11: =AU11+AW11 -> 0 | BA11: =AY11*Stundensätze!$B$1 -> 0 | BC11: =BB11*Stundensätze!$B$2 -> 0 | BD11: =BA11+BC11 -> 0 | BE11: =BD11+AX11+AR11+AL11+AF11+Z11 -> 0 | BM11: =SUM(BH11:BL11) -> 0 | BN11: =BM11+BE11 -> 0
A12: 9. | Z12: =Y12*Stundensätze!$B$3 -> 0 | AC12: =AA12*Stundensätze!$B$1 -> 0 | AE12: =AD12*Stundensätze!$B$2 -> 0 | AF12: =AC12+AE12 -> 0 | AI12: =AG12*Stundensätze!$B$1 -> 0 | AK12: =AJ12*Stundensätze!$B$2 -> 0 | AL12: =AI12+AK12 -> 0 | AO12: =AM12*Stundensätze!$B$1 -> 0 | AQ12: =AP12*Stundensätze!$B$2 -> 0 | AR12: =AO12+AQ12 -> 0 | AU12: =AS12*Stundensätze!$B$1 -> 0 | AW12: =AV12*Stundensätze!$B$2 -> 0 | AX12: =AU12+AW12 -> 0 | BA12: =AY12*Stundensätze!$B$1 -> 0 | BC12: =BB12*Stundensätze!$B$2 -> 0 | BD12: =BA12+BC12 -> 0 | BE12: =BD12+AX12+AR12+AL12+AF12+Z12 -> 0 | BM12: =SUM(BH12:BL12) -> 0 | BN12: =BM12+BE12 -> 0
A13: 10. | Z13: =Y13*Stundensätze!$B$3 -> 0 | AC13: =AA13*Stundensätze!$B$1 -> 0 | AE13: =AD13*Stundensätze!$B$2 -> 0 | AF13: =AC13+AE13 -> 0 | AI13: =AG13*Stundensätze!$B$1 -> 0 | AK13: =AJ13*Stundensätze!$B$2 -> 0 | AL13: =AI13+AK13 -> 0 | AO13: =AM13*Stundensätze!$B$1 -> 0 | AQ13: =AP13*Stundensätze!$B$2 -> 0 | AR13: =AO13+AQ13 -> 0 | AU13: =AS13*Stundensätze!$B$1 -> 0 | AW13: =AV13*Stundensätze!$B$2 -> 0 | AX13: =AU13+AW13 -> 0 | BA13: =AY13*Stundensätze!$B$1 -> 0 | BC13: =BB13*Stundensätze!$B$2 -> 0 | BD13: =BA13+BC13 -> 0 | BE13: =BD13+AX13+AR13+AL13+AF13+Z13 -> 0 | BM13: =SUM(BH13:BL13) -> 0 | BN13: =BM13+BE13 -> 0
A14: 11. | Z14: =Y14*Stundensätze!$B$3 -> 0 | AC14: =AA14*Stundensätze!$B$1 -> 0 | AE14: =AD14*Stundensätze!$B$2 -> 0 | AF14: =AC14+AE14 -> 0 | AI14: =AG14*Stundensätze!$B$1 -> 0 | AK14: =AJ14*Stundensätze!$B$2 -> 0 | AL14: =AI14+AK14 -> 0 | AO14: =AM14*Stundensätze!$B$1 -> 0 | AQ14: =AP14*Stundensätze!$B$2 -> 0 | AR14: =AO14+AQ14 -> 0 | AU14: =AS14*Stundensätze!$B$1 -> 0 | AW14: =AV14*Stundensätze!$B$2 -> 0 | AX14: =AU14+AW14 -> 0 | BA14: =AY14*Stundensätze!$B$1 -> 0 | BC14: =BB14*Stundensätze!$B$2 -> 0 | BD14: =BA14+BC14 -> 0 | BE14: =BD14+AX14+AR14+AL14+AF14+Z14 -> 0 | BM14: =SUM(BH14:BL14) -> 0 | BN14: =BM14+BE14 -> 0
A15: 12. | Z15: =Y15*Stundensätze!$B$3 -> 0 | AC15: =AA15*Stundensätze!$B$1 -> 0 | AE15: =AD15*Stundensätze!$B$2 -> 0 | AF15: =AC15+AE15 -> 0 | AI15: =AG15*Stundensätze!$B$1 -> 0 | AK15: =AJ15*Stundensätze!$B$2 -> 0 | AL15: =AI15+AK15 -> 0 | AO15: =AM15*Stundensätze!$B$1 -> 0 | AQ15: =AP15*Stundensätze!$B$2 -> 0 | AR15: =AO15+AQ15 -> 0 | AU15: =AS15*Stundensätze!$B$1 -> 0 | AW15: =AV15*Stundensätze!$B$2 -> 0 | AX15: =AU15+AW15 -> 0 | BA15: =AY15*Stundensätze!$B$1 -> 0 | BC15: =BB15*Stundensätze!$B$2 -> 0 | BD15: =BA15+BC15 -> 0 | BE15: =BD15+AX15+AR15+AL15+AF15+Z15 -> 0 | BM15: =SUM(BH15:BL15) -> 0 | BN15: =BM15+BE15 -> 0
... A43: 40. | Z43: =Y43*Stundensätze!$B$3 -> 0 | AC43: =AA43*Stundensätze!$B$1 -> 0 | AE43: =AD43*Stundensätze!$B$2 -> 0 | AF43: =AC43+AE43 -> 0 | AI43: =AG43*Stundensätze!$B$1 -> 0 | AK43: =AJ43*Stundensätze!$B$2 -> 0 | AL43: =AI43+AK43 -> 0 | AO43: =AM43*Stundensätze!$B$1 -> 0 | AQ43: =AP43*Stundensätze!$B$2 -> 0 | AR43: =AO43+AQ43 -> 0 | AU43: =AS43*Stundensätze!$B$1 -> 0 | AW43: =AV43*Stundensätze!$B$2 -> 0 | AX43: =AU43+AW43 -> 0 | BA43: =AY43*Stundensätze!$B$1 -> 0 | BC43: =BB43*Stundensätze!$B$2 -> 0 | BD43: =BA43+BC43 -> 0 | BE43: =BD43+AX43+AR43+AL43+AF43+Z43 -> 0 | BM43: =SUM(BH43:BL43) -> 0 | BN43: =BM43+BE43 -> 0
Y44: Summe | Z44: =SUM(Z4:Z43) -> 0 | AE44: Summe | AF44: =SUM(AF4:AF43) -> 0 | AK44: Summe | AL44: =SUM(AL4:AL43) -> 0 | AQ44: Summe | AR44: =SUM(AR4:AR43) -> 0 | AW44: Summe | AX44: =SUM(AX4:AX43) -> 0 | BC44: Summe | BD44: =SUM(BD4:BD43) -> 0 | BE44: =SUM(BE4:BE43) -> 0 | BL44: Summe | BM44: =SUM(BM4:BM43) -> 0 | BN44: =SUM(BN4:BN43) -> 0
C45: Prüfart E: kleine BW (nie Zugangstechnik): 0,70 / größere BW: 0,50 | I45: Länge: zwingend für VZB! (sonst zur Info) | T45: VAO…Verkehrsrechtliche Anordnung erforderlich
T46: SAO…Schifffahrtsrechtliche Anordnung erforderlich
T47: Betra…Betra/ Betren erforderlich

Sheet Stundensätze
A1: Ingenieur | B1: 99 | C1: [Euro/h]
A2: Techniker | B2: 74 | C2: [Euro/h]
A3: Mittelwert | B3: =(B1+B2)/2 -> 86.5 | C3: [Euro/h]
